BEGIN:VCALENDAR
VERSION:2.0
PRODID:-//AEIOU Early Learning Childcare | Sippy Downs - ECPv4.6.24.1//NONSGML v1.0//EN
CALSCALE:GREGORIAN
METHOD:PUBLISH
X-WR-CALNAME:AEIOU Early Learning Childcare | Sippy Downs
X-ORIGINAL-URL:https://sippydowns.aeiou.org.au
X-WR-CALDESC:Events for AEIOU Early Learning Childcare | Sippy Downs
BEGIN:VEVENT
DTSTART;VALUE=DATE:20181001
DTEND;VALUE=DATE:20181002
DTSTAMP:20210226T234843
CREATED:20180213T070353Z
LAST-MODIFIED:20180213T070353Z
UID:563-1538352000-1538438399@sippydowns.aeiou.org.au
SUMMARY:Queen's Birthday - Public Holiday - Centre Closed
DESCRIPTION:
URL:https://sippydowns.aeiou.org.au/event/queens-birthday-public-holiday-centre-closed/
END:VEVENT
END:VCALENDAR