BEGIN:VCALENDAR
VERSION:2.0
PRODID:-//AEIOU Early Learning Childcare | Sippy Downs - ECPv4.6.24.1//NONSGML v1.0//EN
CALSCALE:GREGORIAN
METHOD:PUBLISH
X-WR-CALNAME:AEIOU Early Learning Childcare | Sippy Downs
X-ORIGINAL-URL:https://sippydowns.aeiou.org.au
X-WR-CALDESC:Events for AEIOU Early Learning Childcare | Sippy Downs
BEGIN:VEVENT
DTSTART;VALUE=DATE:20190108
DTEND;VALUE=DATE:20190109
DTSTAMP:20210226T234442
CREATED:20180213T064950Z
LAST-MODIFIED:20180716T015305Z
UID:539-1546905600-1546991999@sippydowns.aeiou.org.au
SUMMARY:Term 1 2019 commences for children
DESCRIPTION:
URL:https://sippydowns.aeiou.org.au/event/term-1-2018-commences-for-children/
END:VEVENT
END:VCALENDAR